BEGIN:VCALENDAR
VERSION:2.0
PRODID:-//Skye Farm - ECPv5.4.0.2//NONSGML v1.0//EN
CALSCALE:GREGORIAN
METHOD:PUBLISH
X-WR-CALNAME:Skye Farm
X-ORIGINAL-URL:https://skyefarmcamp.org
X-WR-CALDESC:Events for Skye Farm
BEGIN:VTIMEZONE
TZID:UTC
BEGIN:STANDARD
TZOFFSETFROM:+0000
TZOFFSETTO:+0000
TZNAME:UTC
DTSTART:20260101T000000
END:STANDARD
END:VTIMEZONE
BEGIN:VEVENT
DTSTART;TZID=UTC:20260607T130000
DTEND;TZID=UTC:20260607T180000
DTSTAMP:20260422T115739
CREATED:20260331T213933Z
LAST-MODIFIED:20260401T212813Z
UID:1877-1780837200-1780855200@skyefarmcamp.org
SUMMARY:Skye Farm Foundation Golf Tournament
DESCRIPTION:The Skye Farm Foundation’s 2nd Annual Golf Tournament is Sunday\, June 7th!  Join us for 9 holes of golf at the Van Patten Golf Club in Clifton Park\, NY\, and/or support the event with your business and sponsor a tee\, a contest\, or more. We’ll be doing a shotgun start\, scramble format\, with “closest to the pin” and “longest drive” contests and a variety of prizes. Registration starts at 1pm\, followed by 2pm tee time\, and a 5pm casual dinner reception. Your support of this event will help Skye Farm continue to fill kids’ summers with smiles\, friendship\, adventure and loving Christian community. \nClick here to learn more and register!
URL:https://skyefarmcamp.org/event/skye-farm-foundation-golf-tournament-2/
LOCATION:924 Main St\, Clifton Park\, NY 12065
ATTACH;FMTTYPE=image/png:https://skyefarmcamp.org/wp-content/uploads/sites/4/2026/03/Golf-Fundraiser-SM-3.png
END:VEVENT
BEGIN:VEVENT
DTSTART;TZID=UTC:20260621T130000
DTEND;TZID=UTC:20260621T160000
DTSTAMP:20260422T115739
CREATED:20251120T235326Z
LAST-MODIFIED:20251120T235525Z
UID:1701-1782046800-1782057600@skyefarmcamp.org
SUMMARY:Open House 2026
DESCRIPTION:Open House\n— \nTake a tour\, roast a s’more\, meet the staff\, and see what Skye Farm has to offer! Check in at Kessler Hall. \nJune 21nd\, 2026\, 1-4pm
URL:https://skyefarmcamp.org/event/open-house-2026/
LOCATION:Skye Farm Camp\, 89 Sherman Lake Rd\, Warrensburg\, NY\, 12885\, United States
ATTACH;FMTTYPE=image/jpeg:https://skyefarmcamp.org/wp-content/uploads/sites/4/2025/11/Website-Event-Featured-Images-1.jpg
ORGANIZER;CN="Skye%20Farm":MAILTO:ryan@campsandretreats.org
END:VEVENT
BEGIN:VEVENT
DTSTART;TZID=UTC:20260926T100000
DTEND;TZID=UTC:20260926T160000
DTSTAMP:20260422T115739
CREATED:20251120T232740Z
LAST-MODIFIED:20251120T235623Z
UID:1697-1790416800-1790438400@skyefarmcamp.org
SUMMARY:Skye Farm Foundation Fall Festival
DESCRIPTION:Skye Farm Foundation Fall Festival\n— \nJoin us at camp for a day retreat full of fall fun! We’ll have games and activities for all ages\, wagon rides\, and a delicious camp lunch. This is a free event\, with donations to the Skye Farm Foundation welcomed. \nSaturday\, September 26\, 2026 \nMore info & RSVP form coming soon!
URL:https://skyefarmcamp.org/event/skye-farm-foundation-fall-festival/
LOCATION:Skye Farm Camp\, 89 Sherman Lake Rd\, Warrensburg\, NY\, 12885\, United States
ATTACH;FMTTYPE=image/jpeg:https://skyefarmcamp.org/wp-content/uploads/sites/4/2025/11/Website-Event-Featured-Images.jpg
END:VEVENT
END:VCALENDAR